BEGIN:VCALENDAR
VERSION:2.0
PRODID:-//PERC - ECPv6.15.18//NONSGML v1.0//EN
CALSCALE:GREGORIAN
METHOD:PUBLISH
X-ORIGINAL-URL:https://percstandard.org
X-WR-CALDESC:Events for PERC
REFRESH-INTERVAL;VALUE=DURATION:PT1H
X-Robots-Tag:noindex
X-PUBLISHED-TTL:PT1H
BEGIN:VTIMEZONE
TZID:UTC
BEGIN:STANDARD
TZOFFSETFROM:+0000
TZOFFSETTO:+0000
TZNAME:UTC
DTSTART:20240101T000000
END:STANDARD
END:VTIMEZONE
BEGIN:VEVENT
DTSTART;VALUE=DATE:20251106
DTEND;VALUE=DATE:20251107
DTSTAMP:20260421T095955
CREATED:20250213T170256Z
LAST-MODIFIED:20250213T170327Z
UID:1051-1762387200-1762473599@percstandard.org
SUMMARY:Zaragoza: The role of the professional geologist in minerals assessment and reporting
DESCRIPTION:Proposed one-day workshop on “The role of the professional geologist in minerals assessment and reporting”\, to be held during the International Professional Geologists Association meeting (https://www.5th-ipgc.com/) – Subject to acceptance of proposal
URL:https://percstandard.org/event/zaragoza-the-role-of-the-professional-geologist-in-minerals-assessment-and-reporting/
END:VEVENT
END:VCALENDAR