BEGIN:VCALENDAR
VERSION:2.0
PRODID:-//PERC - ECPv6.15.18//NONSGML v1.0//EN
CALSCALE:GREGORIAN
METHOD:PUBLISH
X-ORIGINAL-URL:https://percstandard.org
X-WR-CALDESC:Events for PERC
REFRESH-INTERVAL;VALUE=DURATION:PT1H
X-Robots-Tag:noindex
X-PUBLISHED-TTL:PT1H
BEGIN:VTIMEZONE
TZID:UTC
BEGIN:STANDARD
TZOFFSETFROM:+0000
TZOFFSETTO:+0000
TZNAME:UTC
DTSTART:20250101T000000
END:STANDARD
END:VTIMEZONE
BEGIN:VEVENT
DTSTART;TZID=UTC:20260730T160000
DTEND;TZID=UTC:20260730T173000
DTSTAMP:20260422T012241
CREATED:20251219T114426Z
LAST-MODIFIED:20260202T170822Z
UID:1169-1785427200-1785432600@percstandard.org
SUMMARY:Online: PERC-GSL – Module 8: The Assessment and Reporting of Risk and Uncertainty
DESCRIPTION:The Assessment and Reporting of Risk and Uncertainty \nThe importance of identifying risk and uncertainty in a Mineral Project\, how they are defined\, assessed and ranked\, and how these should be addressed in public reporting of Mineral Resources and Mineral Reserves. \nLearning objectives:  \n\nHow Uncertainty leads to Risk\, and the impact this has on expected outcomes;\nTo clarify the different types of Risk and their tolerances;\nTo understand the relationship between consequence and likelihood of unwanted events;\nHow to quantify Risk in practice\, the Risk Management process in terms of assessment\, identification and mitigation\, including some examples;\nHow to evaluate\, analyse and report Risk\, including using Table 1 as a framework;\nHow to evaluate Historical Data\, the Risk it represents\, and the use of Review and Audit procedures for validation and concurrency;\nTo propose some practical Recommendations and obligations when considering using Historical Data.\n\nThis is the last out of 8 modules organised from 511 June to 30 July 2026. \nMore information on the other modules: https://percstandard.org/event/online-an-introduction-to-the-crirsco-family-of-reporting-codes-all-modules/ \nDiscounted registration fees are offered to members of the PERC professional organisations.
URL:https://percstandard.org/event/online-perc-gsl-module-8-the-assessment-and-reporting-of-risk-and-uncertainty/
CATEGORIES:CRIRSCO
END:VEVENT
END:VCALENDAR