BEGIN:VCALENDAR
VERSION:2.0
PRODID:-//PERC - ECPv6.15.18//NONSGML v1.0//EN
CALSCALE:GREGORIAN
METHOD:PUBLISH
X-WR-CALNAME:PERC
X-ORIGINAL-URL:https://percstandard.org
X-WR-CALDESC:Events for PERC
REFRESH-INTERVAL;VALUE=DURATION:PT1H
X-Robots-Tag:noindex
X-PUBLISHED-TTL:PT1H
BEGIN:VTIMEZONE
TZID:UTC
BEGIN:STANDARD
TZOFFSETFROM:+0000
TZOFFSETTO:+0000
TZNAME:UTC
DTSTART:20240101T000000
END:STANDARD
END:VTIMEZONE
BEGIN:VEVENT
DTSTART;TZID=UTC:20260723T160000
DTEND;TZID=UTC:20260723T173000
DTSTAMP:20260421T152313
CREATED:20251219T114153Z
LAST-MODIFIED:20260202T170755Z
UID:1165-1784822400-1784827800@percstandard.org
SUMMARY:Online: PERC-GSL – Module 7: PERC Table 1 and the Mineral Project Evaluation Report Template
DESCRIPTION:PERC Table 1 and the Mineral Project Evaluation Report Template \nAn overview of the concept\, historical development and current contents of Table 1 and an introduction and overview of the MPER template document designed to aid the compilation of Mineral Project data for all reporting purposes\, and how it relates to a Competent Person’s Report. \nLearning objectives:  \n\nTo understand the MPER Template and its role as a foundation document to support both Public and Non-Public reporting;\nTo understand the practical transformation of Table 1 into a document template;\nTo explain the MPER structure and format\, its similarities and differences to Table 1;\nTo understand the concept of a Mineral Project living document throughout the entire Mineral Asset Development cycle;\nTo explain the relationship between the MPER and a Competent Person’s Report.\n\nThis is the seventh out of 8 modules organised from 11 June to 30 July 2026. \nMore information on the other modules: https://percstandard.org/event/online-an-introduction-to-the-crirsco-family-of-reporting-codes-all-modules/ \nDiscounted registration fees are offered to members of the PERC professional organisations.
URL:https://percstandard.org/event/online-perc-gsl-module-7-perc-table-1-and-the-mineral-project-evaluation-report-template/
CATEGORIES:CRIRSCO
END:VEVENT
BEGIN:VEVENT
DTSTART;TZID=UTC:20260716T160000
DTEND;TZID=UTC:20260716T173000
DTSTAMP:20260421T152313
CREATED:20251219T113908Z
LAST-MODIFIED:20260202T170728Z
UID:1161-1784217600-1784223000@percstandard.org
SUMMARY:Online: PERC-GSL – Module 6: Non-Public Reporting\, the UNFC and CRIRSCO Template to UNFC Bridging Document
DESCRIPTION:Non-Public Reporting\, the UNFC and CRIRSCO Template to UNFC Bridging Document \nWhat the United Nations Framework Classification for Resources (UNFC) is\, why it is important\, how it differs from the CRIRSCO-type codes\, how the two classification systems can be correlated with each other using the CRIRSCO Template to UNFC Bridging Document\, and the application of the two systems for strategic and non-public reporting. \nLearning objectives:  \n\nTo understand the differences between the UNFC and CRIRSCO-type classification systems;\nHow the UNFC system works\, how the three-dimensional EFG axes are constructed and what they mean;\nTo understand the difference between a Project-based and a Mineral Category-based classification in the UNFC;\nTo understand the use of the Bridging Document between the UNFC and CRIRSCO;\nAn overview of some case studies illustrating the application of the UNFC in different contexts.\n\nThis is the sixth out of 8 modules organised from 11 June to 30 July 2026. \nMore information on the other modules: https://percstandard.org/event/online-an-introduction-to-the-crirsco-family-of-reporting-codes-all-modules/ \nDiscounted registration fees are offered to members of the PERC professional organisations.
URL:https://percstandard.org/event/online-perc-gsl-module-6-non-public-reporting-the-unfc-and-crirsco-template-to-unfc-bridging-document/
CATEGORIES:CRIRSCO
END:VEVENT
BEGIN:VEVENT
DTSTART;TZID=UTC:20260709T160000
DTEND;TZID=UTC:20260709T173000
DTSTAMP:20260421T152313
CREATED:20251219T113619Z
LAST-MODIFIED:20260202T170656Z
UID:1157-1783612800-1783618200@percstandard.org
SUMMARY:Online: PERC-GSL – Module 5: Consideration of ESG Aspects in Minerals Reporting
DESCRIPTION:Consideration of ESG Aspects in Minerals Reporting \nAn overview of why the assessment of Environmental\, Social and Governance (ESG) aspects has become a key concern\, understanding what is meant by ESG in a minerals’ reporting context\, how it is addressed in the PERC Reporting Standard\, and a review of some relevant mining-related ESG standards. \nLearning objectives:  \n\nUnderstand why ESG has become a key concern of investors in recent years;\nUnderstand what is meant by environmental\, social and governance (ESG) aspects in a minerals reporting context;\nBecome familiar with how ESG has been addressed in the PERC Reporting Standard;\nBe introduced to some relevant mining related ESG standards.\n\nThis is the fifth out of 8 modules organised from 11 June to 30 July 2026. \nMore information on the other modules: https://percstandard.org/event/online-an-introduction-to-the-crirsco-family-of-reporting-codes-all-modules/ \nDiscounted registration fees are offered to members of the PERC professional organisations.
URL:https://percstandard.org/event/online-perc-gsl-module-5-consideration-of-esg-aspects-in-minerals-reporting/
CATEGORIES:CRIRSCO
END:VEVENT
BEGIN:VEVENT
DTSTART;TZID=UTC:20260702T160000
DTEND;TZID=UTC:20260702T173000
DTSTAMP:20260421T152313
CREATED:20251219T113311Z
LAST-MODIFIED:20260202T170624Z
UID:1153-1783008000-1783013400@percstandard.org
SUMMARY:Online: PERC-GSL – Module 4: Understanding Modifying Factors and Reasonable Prospects for Economic Extraction
DESCRIPTION:Understanding Modifying Factors and Reasonable Prospects for Economic Extraction \nWhat are the Modifying Factors\, why they are important\, and how to use them to establish different levels of economic potential\, with emphasis on defining “reasonable prospects for economic extraction” in the definition of Mineral Resource? \nLearning objectives:  \n\nTo understand what Modifying Factors are\, and how they impact on the business of mining;\nTo clarify the different categories of Modifying Factors\, and how they are referenced in the PERC Reporting Standard;\nTo understand what Reference Points are\, and why they are critical in understanding the impact of Modifying Factors;\nTo demonstrate some practical outcomes of applying Modifying Factors in mine planning;\nTo understand the role of Technical Studies in assessing Modifying Factors:\nTo learn how Modifying Factors are used to define ‘reasonable prospects of economic extraction’ (RPEE) in declaring a Mineral Resource;\nHow to present and report Modifying Factors for RPEE in a Public Report.\n\nThis is the fourth out of 8 modules organised from 11 June to 30 July 2026. \nMore information on the other modules: https://percstandard.org/event/online-an-introduction-to-the-crirsco-family-of-reporting-codes-all-modules/ \nDiscounted registration fees are offered to members of the PERC professional organisations.
URL:https://percstandard.org/event/online-perc-gsl-module-4-understanding-modifying-factors-and-reasonable-prospects-for-economic-extraction/
CATEGORIES:CRIRSCO
END:VEVENT
BEGIN:VEVENT
DTSTART;VALUE=DATE:20260630
DTEND;VALUE=DATE:20260701
DTSTAMP:20260421T152313
CREATED:20260415T015342Z
LAST-MODIFIED:20260415T015342Z
UID:1270-1782777600-1782863999@percstandard.org
SUMMARY:MRE2026 – GSL event to be held at the Geological Society London on Tuesday June 30th
DESCRIPTION:MRE26 will bring together geoscientists and other professionals to discuss the status and future of resource evaluation. Topics will showcase leading practice and advancements in sampling/QAQC; geological modelling; geostatistical estimation and simulation; inputs into reasonable prospects for economic extraction (RPEE); project risk analysis; grade control and reconciliation; and resource reporting. \nThis one-day event will promote the exchange of information through a series of Keynote presentations and networking sessions. \nMore information and registration details are provided on the GSL website at: \n\nhttps://www.geolsoc.org.uk/events/mineral-resource-evaluation-conference-mre26/
URL:https://percstandard.org/event/mre2026-gsl-event-to-be-held-at-the-geological-society-london-on-tuesday-june-30th/
END:VEVENT
BEGIN:VEVENT
DTSTART;TZID=UTC:20260625T160000
DTEND;TZID=UTC:20260625T173000
DTSTAMP:20260421T152313
CREATED:20251219T112858Z
LAST-MODIFIED:20260202T170553Z
UID:1149-1782403200-1782408600@percstandard.org
SUMMARY:Online: PERC-GSL – Module 3: Public Reports: Properties\, Process and Preparation
DESCRIPTION:Public Reports: Properties\, Process and Preparation \nAn introduction to the different types of report that are prepared during the assessment of mineral asset\, including\, sources of information and intended audiences.  An explanation of what Public Reports are in the context of CRIRSCO-aligned reporting\, what they are used for\, what they contain\, and what information should be included or excluded from them. An overview of the concept\, historical development and current contents of Table 1. \nLearning objectives:  \n\nTo understand the properties of a Public Report\, what it represents\, the different types\, different content sources\, and different intended use or application;\nTo clarify the different approaches to compilation in different jurisdictions\, and how that impacts the practical compilation of a Public Report;\nTo understand the compilation process in terms of who contributes what;\nTo clarify the Competent Person’s role\, responsibility\, liability\, and consent\, as well as that of the Mineral Company;\nTo learn and understand the different stages in the process from compilation to Public Reporting;\nTo learn about using Table 1 as a framework for assessing the contents of a Public Report\, as well as some practical hints on how to present information.\n\nThis is the third out of 8 modules organised from 11 June to 30 July 2026. \nMore information on the other modules: https://percstandard.org/event/online-an-introduction-to-the-crirsco-family-of-reporting-codes-all-modules/ \nDiscounted registration fees are offered to members of the PERC professional organisations.
URL:https://percstandard.org/event/online-perc-gsl-module-3-public-reports-properties-process-and-preparation/
CATEGORIES:CRIRSCO
END:VEVENT
BEGIN:VEVENT
DTSTART;TZID=UTC:20260618T160000
DTEND;TZID=UTC:20260618T173000
DTSTAMP:20260421T152313
CREATED:20251219T112446Z
LAST-MODIFIED:20260202T170512Z
UID:1145-1781798400-1781803800@percstandard.org
SUMMARY:Online: PERC-GSL – Module 2: Competency: The role of Professional Organisations and the Competent Person
DESCRIPTION:Competency: The role of Professional Organisations and the Competent Person \nWhat is competency and why is it necessary\, and what is the relationship to professional organisations? \nLearning objectives:  \n\nLearn what is meant by the term Competent Person (CP);\nThe importance of competency in the context of the CRIRSCO reporting codes and standards;\nUnderstand the qualification and experience requirements needed to act as a CRIRSCO CP;\nUnderstand what Competent Person’s Reports and Consents are;\nBecome aware of possible sanctions for misreporting.\n\nThis is the second out of 8 modules organised from 11June to 30 July 2026. \nMore information on the other modules: https://percstandard.org/event/online-an-introduction-to-the-crirsco-family-of-reporting-codes-all-modules/ \nDiscounted registration fees are offered to members of the PERC professional organisations.
URL:https://percstandard.org/event/online-perc-gsl-module-2-competency-the-role-of-professional-organisations-and-the-competent-person/
CATEGORIES:CRIRSCO
END:VEVENT
BEGIN:VEVENT
DTSTART;TZID=UTC:20260611T160000
DTEND;TZID=UTC:20260611T173000
DTSTAMP:20260421T152313
CREATED:20251219T111724Z
LAST-MODIFIED:20260202T170402Z
UID:1137-1781193600-1781199000@percstandard.org
SUMMARY:Online: PERC-GSL - Module 1: Introduction to minerals reporting and classification of estimates
DESCRIPTION:Introduction to minerals reporting and classification of estimates \nAn introduction to the history and development of the CRIRSCO-aligned international reporting codes and standards for public reporting (disclosure) on mineral projects\, why they were needed\, what they are\, and what they do.  An overview of how Mineral Resources are classified\, and what this classification means for public reporting is also provided. \nLearning objectives:  \n\nThe role and organisational structures of PERC and CRIRSCO;\nThe importance of having reporting codes and standards;\nThe need for different reporting systems for investors and government;\nThe role of mining professionals in the assessment and reporting process;\nTo recognise and understand some of the important concepts of PERC/CRIRSCO reporting.\n\nThis is the first out of 8 modules organised from 11 June to 30 July 2026. \nMore information on the other modules: https://percstandard.org/event/online-an-introduction-to-the-crirsco-family-of-reporting-codes-all-modules/ \nDiscounted registration fees are offered to members of the PERC professional organisations.
URL:https://percstandard.org/event/online-perc-gsl-module-1-introduction-to-minerals-reporting-and-classification-of-estimates/
CATEGORIES:CRIRSCO
END:VEVENT
BEGIN:VEVENT
DTSTART;VALUE=DATE:20260604
DTEND;VALUE=DATE:20260605
DTSTAMP:20260421T152313
CREATED:20260224T115454Z
LAST-MODIFIED:20260415T014929Z
UID:1210-1780531200-1780617599@percstandard.org
SUMMARY:PERC-IGI Training event: Critical Raw Material Resource Classification and Reporting using UNFC and CRIRSCO
DESCRIPTION:PERC and the Institute of Geologists of Ireland (IGI) are running a one-day training event in Dublin on 4th June 2026 on the topic of “Critical Raw Material Resource Classification and Reporting using UNFC and CRIRSCO”. \nThis event will be held at the Department of Climate\, Energy and the Environment’s Tom Johnson House\, Haddington Road\, Dublin\, D04K7X4 with the half-day morning session also being available to attend online. The full day including the workshop in the afternoon is for in-person attendees only. \nRegistration is now open at the appropriate Eventbrite links below. \nDetails and further information about the event are provided in a course brochure which can be viewed and downloaded using the following link: \n\nhttps://nextcloud.percstandard.org/index.php/s/zjJmneFGfCmpAPE\n\nFull Day in-person attendance link: \nhttps://www.eventbrite.ie/e/1984457785657?aff=oddtdtcreator \nHalf Day Online attendance link: \nhttps://www.eventbrite.ie/e/1986080508264?aff=oddtdtcreator
URL:https://percstandard.org/event/perc-igi-training-event-critical-raw-material-resource-classification-and-reporting-using-unfc-and-crirsco/
LOCATION:DCEE\, Department of Climate\, Energy and the Environment’s Tom Johnson House\, Haddington Road\, Dublin\, D04K7X4
CATEGORIES:CRIRSCO,UNFC
END:VEVENT
BEGIN:VEVENT
DTSTART;VALUE=DATE:20251106
DTEND;VALUE=DATE:20251107
DTSTAMP:20260421T152313
CREATED:20250213T170256Z
LAST-MODIFIED:20250213T170327Z
UID:1051-1762387200-1762473599@percstandard.org
SUMMARY:Zaragoza: The role of the professional geologist in minerals assessment and reporting
DESCRIPTION:Proposed one-day workshop on “The role of the professional geologist in minerals assessment and reporting”\, to be held during the International Professional Geologists Association meeting (https://www.5th-ipgc.com/) – Subject to acceptance of proposal
URL:https://percstandard.org/event/zaragoza-the-role-of-the-professional-geologist-in-minerals-assessment-and-reporting/
END:VEVENT
BEGIN:VEVENT
DTSTART;VALUE=DATE:20250912
DTEND;VALUE=DATE:20250913
DTSTAMP:20260421T152313
CREATED:20250213T165535Z
LAST-MODIFIED:20250213T170320Z
UID:1047-1757635200-1757721599@percstandard.org
SUMMARY:Meggen: UNFC and PERC – Basics\, Application\, and Bridging between them: Their complementary use in the classification and reporting of mineral estimates
DESCRIPTION:One-day in person course on UNFC & PERC – Basics\, Application\, and Bridging between them: Their complementary use in the classification and reporting of mineral estimates – More information to be published soon
URL:https://percstandard.org/event/meggen-in-person-unfc-perc-basics-application-and-bridging-between-them-their-complementary-use-in-the-classification-and-reporting-of-mineral-estimates/
END:VEVENT
BEGIN:VEVENT
DTSTART;TZID=UTC:20250423T080000
DTEND;TZID=UTC:20250427T170000
DTSTAMP:20260421T152313
CREATED:20250212T214259Z
LAST-MODIFIED:20250407T211327Z
UID:1032-1745395200-1745773200@percstandard.org
SUMMARY:Karlsruhe: PERC AGM and related events
DESCRIPTION:PERC AGM and related events: Karlsruhe Germany (23-27 April 2025) \nThe PERC AGM will be held on Saturday 26 April in Karlsruhe\, Germany with the option for members to participate remotely if necessary. We are grateful to the Karlsruhe Institute of Technology who are hosting the event. The AGM is intended for PERC Trustees and Members as well as members of the PERC sub-committees. Participation by external individuals or organisations is possible on request to the PERC Chairperson and Secretary. \nSeveral other activities are planned to take place in conjunction with the AGM\, the overall schedule being as follows: \n\nWednesday 23 April – arrival of PERC AGM attendees\nThursday 24 April – site visit and roundtable discussion for PERC AGM attendees only\nFriday 25 April – one-day workshop – open for public registration (AGM attendees must register if they wish to attend the workshop – see details below)\nSaturday 26 April – PERC AGM – PERC members and invited guests only\nSunday 27 April – departure of PERC AGM attendees\n\nPublic PERC Standard workshop (Friday April 25 – registration deadline April 11) \nIn conjunction with the AGM\, a one-day PERC workshop is being held at the Karlsruhe Institute of Technology on Friday 25 April. The workshop will provide participants with an introduction to the content and application of the CRIRSCO Template\, the PERC Reporting Standard and the UNFC\, including the use of the CRIRSCO Template to UNFC Bridging document. \nThe EU’s Critical Raw Materials Act (CRMA) and its implications for industry and government entities involved in the European minerals sector will also be discussed\, including relevant aspects of Strategic Project approvals and monitoring. \nThe afternoon session of the course will introduce the topic of assessment and reporting of mineralised brines with case study examples from three different types of mineralised brine deposits. \nThis course is being organised by PERC in conjunction with the German Professional Association of Geoscientists (BDG) and the recently formed EU International Centre of Excellence for Sustainable Resource Management (EU ICE-SRM). \nThe afternoon part of the course on the topic of mineralised brines will be offered as a separate webinar for those who are interested in this topic but are unable to attend the course in person. \nThe morning part of the course will only be available for in-person attendees. \nTo Register for the one-day in-person workshop – Deadline 11 April: \nUse the following link to the BDG website. \n\nhttps://www.die-ba-bdg.de/seminar/the-perc-reporting-standard-unfc-the-eus-critical-raw-materials-act/\n\nTo Register for the 2.5 hour webinar on brines (14:30 to 17:00 local time) \nUse the following link to PERC’s TicketTailor event page: \n\nhttps://app.tickettailor.com/events/perc/1651460
URL:https://percstandard.org/event/perc-basics-and-application-including-consideration-of-the-crma-and-unfc/
END:VEVENT
BEGIN:VEVENT
DTSTART;TZID=UTC:20250227T100000
DTEND;TZID=UTC:20250227T160000
DTSTAMP:20260421T152313
CREATED:20250129T094335Z
LAST-MODIFIED:20250213T173450Z
UID:981-1740650400-1740672000@percstandard.org
SUMMARY:London (cancelled): PERC Training in London: Public and Non-Public Reporting of Mineral Projects
DESCRIPTION:Cancelled – This course may be rescheduled for later in the year \nPERC is running a one-day training course on Thursday 27th February from 10am to 4pm in the Geological Society London’s Burlington House office in London\, entitled: Public and Non-Public Reporting of Mineral Projects – An Introduction to the Use of the PERC Reporting Standard and the UNFC. \nThis course will focus on minerals reporting and will provide guidance to those preparing or using information based on the assessment and reporting of mineral projects\, both in general and using the PERC Standard in particular. The following topics will be covered: \n\nSimilarities and differences in the requirements of government and industry\nThe use of the CRIRSCO Template to UNFC Bridging Document\nUse of UNFC in the EU’s Critical Raw Materials Act\nThe assessment and reporting of Uncertainty and Risk\n\nAn information sheet containing further details about the course is available at: https://nextcloud.percstandard.org/index.php/s/eK42KrB2jPsQyST  \nTo register for this course\, please go to: https://www.tickettailor.com/events/perc/1535599
URL:https://percstandard.org/event/perc-training-in-london-public-and-non-public-reporting-of-mineral-projects/
ATTACH;FMTTYPE=image/png:https://percstandard.org/wp-content/uploads/2025/01/PERC_training_GSL_202502.png
END:VEVENT
BEGIN:VEVENT
DTSTART;TZID=UTC:20250224T080000
DTEND;TZID=UTC:20250226T170000
DTSTAMP:20260421T152313
CREATED:20250117T210618Z
LAST-MODIFIED:20250213T173456Z
UID:968-1740384000-1740589200@percstandard.org
SUMMARY:Madrid-hybrid: Curso Sobre Elaboración de Proyectos Mineros en Europa Según Estándares Internacionales
DESCRIPTION:PERC\, in collaboration with IMEB\, will be co-organising 3 days of training with a one-day in person/online course (in Spanish) and a two-days Competent Person (CP) workshop. \nWhen?  \n24-26 February 2025 \nWhere?  \nThe School of Mining Engineering of Madrid (ETSI Minas)\, C/ Ríos Rosas 21\, 28003 Madrid\, Spain. \nTitle: Jornadas Sobre Evaluación Y Reporte De Recursos Y Reservas Minerales En Proyectos Europeos \nMore Information:  https://gerrm.com/portfolio_page/descubre-como-llevar-tus-proyectos-mineros-al-estandar-europeo-con-este-curso-exclusivo/ \nRegistration: https://forms.gle/Y2upnX3Bzt7CktaC9
URL:https://percstandard.org/event/curso-sobre-elaboracion-de-proyectos-mineros-en-europa-segun-estandares-internacionales/
ATTACH;FMTTYPE=image/png:https://percstandard.org/wp-content/uploads/2025/01/PERC_training_Madrid_202502.png
END:VEVENT
END:VCALENDAR